BEGIN:VCALENDAR
VERSION:2.0
PRODID:-//Winners&#039; Resource Center Tampa, FL - ECPv6.15.20//NONSGML v1.0//EN
CALSCALE:GREGORIAN
METHOD:PUBLISH
X-WR-CALNAME:Winners&#039; Resource Center Tampa, FL
X-ORIGINAL-URL:https://winnersresource.org
X-WR-CALDESC:Events for Winners&#039; Resource Center Tampa, FL
REFRESH-INTERVAL;VALUE=DURATION:PT1H
X-Robots-Tag:noindex
X-PUBLISHED-TTL:PT1H
BEGIN:VTIMEZONE
TZID:America/New_York
BEGIN:DAYLIGHT
TZOFFSETFROM:-0500
TZOFFSETTO:-0400
TZNAME:EDT
DTSTART:20240310T070000
END:DAYLIGHT
BEGIN:STANDARD
TZOFFSETFROM:-0400
TZOFFSETTO:-0500
TZNAME:EST
DTSTART:20241103T060000
END:STANDARD
BEGIN:DAYLIGHT
TZOFFSETFROM:-0500
TZOFFSETTO:-0400
TZNAME:EDT
DTSTART:20250309T070000
END:DAYLIGHT
BEGIN:STANDARD
TZOFFSETFROM:-0400
TZOFFSETTO:-0500
TZNAME:EST
DTSTART:20251102T060000
END:STANDARD
BEGIN:DAYLIGHT
TZOFFSETFROM:-0500
TZOFFSETTO:-0400
TZNAME:EDT
DTSTART:20260308T070000
END:DAYLIGHT
BEGIN:STANDARD
TZOFFSETFROM:-0400
TZOFFSETTO:-0500
TZNAME:EST
DTSTART:20261101T060000
END:STANDARD
END:VTIMEZONE
BEGIN:VEVENT
DTSTART;TZID=America/New_York:20250605T190000
DTEND;TZID=America/New_York:20250605T200000
DTSTAMP:20260423T200920
CREATED:20250605T193456Z
LAST-MODIFIED:20250605T193456Z
UID:2129-1749150000-1749153600@winnersresource.org
SUMMARY:Winners' Adult Summer Camp
DESCRIPTION:Welcome to WINNERS’ CAMP – Adult Summer Camp! \nGet ready for the hottest ticket in Tampa this summer – Adult Summer Camp is back\, and it’s bigger and better than ever\, from June 5th to July 10th! Join us at Winners’ Resource Center for five weeks of learning\, laughter\, and fun! Whether you’re a seasoned camper or a first-timer\, our action-packed lineup of activities has something for everyone. \nWEEK 1: Estate Planning with Monica Savage \nEstate planning isn’t just paperwork\, it’s peace of mind and financial freedom. Join Monica Savage to learn how organizing your assets\, budgeting wisely\, and planning ahead can turn confusion into confidence and set you up for a secure future! \nWEEK 2: Starting a Small Business with Kathy Hair \nHave a great idea but not sure where to start? Join Kathy Hair to learn the key steps to launching your small business with purpose and confidence. From planning to execution\, get the tools you need to turn your vision into reality. \nWEEK 3: Self-Defense with Rich Galicia \nJoin Rich Galicia\, owner of Fight Team LLC in Greater Carrollwood\, for an empowering self-defense session. Learn practical martial arts techniques and strategies to stay safe\, build confidence\, and protect yourself in real-life situations.\ \nWEEK 4: Growing a Food Garden with Dr. Henrissa BerryJoin Dr. Henrissa Berry for a fun and practical session on growing your own food. Whether you have a yard or just a few pots\, you’ll learn simple\, sustainable gardening techniques to plant\, care for\, and harvest fresh produce right at home. \nWEEK 5: Game Night Extravaganza! Join us for an evening of friendly competition\, delicious snacks\, and prizes. It’s the perfect way to wrap up an unforgettable summer camp experience! \nRegister now at : https://www.eventbrite.com/cc/winners-camp-adult-summer-camp-4302533
URL:https://winnersresource.org/event/winners-adult-summer-camp/
LOCATION:Winners’ Worship Center\, 9309 N Florida Ave Suite 104\, Tampa\, FL\, 33612\, United States
CATEGORIES:Upcomming Events
ATTACH;FMTTYPE=image/png:https://winnersresource.org/wp-content/uploads/2025/06/WINNERS-CAMP-ADULT-SUMMER-CAMP-2025-Winners-Worship-Center-Tampa-FL.png
END:VEVENT
END:VCALENDAR